BEGIN:VCALENDAR
VERSION:2.0
PRODID:-//Threshold Security - ECPv6.15.20//NONSGML v1.0//EN
CALSCALE:GREGORIAN
METHOD:PUBLISH
X-ORIGINAL-URL:https://thresholdsecurity.com
X-WR-CALDESC:Events for Threshold Security
REFRESH-INTERVAL;VALUE=DURATION:PT1H
X-Robots-Tag:noindex
X-PUBLISHED-TTL:PT1H
BEGIN:VTIMEZONE
TZID:America/New_York
BEGIN:DAYLIGHT
TZOFFSETFROM:-0500
TZOFFSETTO:-0400
TZNAME:EDT
DTSTART:20230312T070000
END:DAYLIGHT
BEGIN:STANDARD
TZOFFSETFROM:-0400
TZOFFSETTO:-0500
TZNAME:EST
DTSTART:20231105T060000
END:STANDARD
BEGIN:DAYLIGHT
TZOFFSETFROM:-0500
TZOFFSETTO:-0400
TZNAME:EDT
DTSTART:20240310T070000
END:DAYLIGHT
BEGIN:STANDARD
TZOFFSETFROM:-0400
TZOFFSETTO:-0500
TZNAME:EST
DTSTART:20241103T060000
END:STANDARD
BEGIN:DAYLIGHT
TZOFFSETFROM:-0500
TZOFFSETTO:-0400
TZNAME:EDT
DTSTART:20250309T070000
END:DAYLIGHT
BEGIN:STANDARD
TZOFFSETFROM:-0400
TZOFFSETTO:-0500
TZNAME:EST
DTSTART:20251102T060000
END:STANDARD
BEGIN:DAYLIGHT
TZOFFSETFROM:-0500
TZOFFSETTO:-0400
TZNAME:EDT
DTSTART:20260308T070000
END:DAYLIGHT
BEGIN:STANDARD
TZOFFSETFROM:-0400
TZOFFSETTO:-0500
TZNAME:EST
DTSTART:20261101T060000
END:STANDARD
BEGIN:DAYLIGHT
TZOFFSETFROM:-0500
TZOFFSETTO:-0400
TZNAME:EDT
DTSTART:20270314T070000
END:DAYLIGHT
BEGIN:STANDARD
TZOFFSETFROM:-0400
TZOFFSETTO:-0500
TZNAME:EST
DTSTART:20271107T060000
END:STANDARD
END:VTIMEZONE
BEGIN:VTIMEZONE
TZID:America/Denver
BEGIN:DAYLIGHT
TZOFFSETFROM:-0700
TZOFFSETTO:-0600
TZNAME:MDT
DTSTART:20230312T090000
END:DAYLIGHT
BEGIN:STANDARD
TZOFFSETFROM:-0600
TZOFFSETTO:-0700
TZNAME:MST
DTSTART:20231105T080000
END:STANDARD
BEGIN:DAYLIGHT
TZOFFSETFROM:-0700
TZOFFSETTO:-0600
TZNAME:MDT
DTSTART:20240310T090000
END:DAYLIGHT
BEGIN:STANDARD
TZOFFSETFROM:-0600
TZOFFSETTO:-0700
TZNAME:MST
DTSTART:20241103T080000
END:STANDARD
BEGIN:DAYLIGHT
TZOFFSETFROM:-0700
TZOFFSETTO:-0600
TZNAME:MDT
DTSTART:20250309T090000
END:DAYLIGHT
BEGIN:STANDARD
TZOFFSETFROM:-0600
TZOFFSETTO:-0700
TZNAME:MST
DTSTART:20251102T080000
END:STANDARD
END:VTIMEZONE
BEGIN:VEVENT
DTSTART;TZID=America/New_York:20260413T080000
DTEND;TZID=America/New_York:20260415T170000
DTSTAMP:20260421T202257
CREATED:20251030T185810Z
LAST-MODIFIED:20251031T234753Z
UID:40516-1776067200-1776272400@thresholdsecurity.com
SUMMARY:IAHSS 58th Annual Conference and Exhibition (AC&E)
DESCRIPTION:THRESHOLD Visitor Management Systems will be at the 58th Annual Conference and Exhibition (AC&E) on April 13 – 15\, 2026 in New Orleans\, LA. Stop by our Booth to see a demo of our eVisitor Software for visitor management and our expiring visitor badges. \nLearn more about the show.
URL:https://thresholdsecurity.com/event/iahss-58th-annual-conference-and-exhibition-ace/
LOCATION:New Orleans Marriott\, New Orleans\, LA\, United States
END:VEVENT
BEGIN:VEVENT
DTSTART;TZID=America/New_York:20260325T080000
DTEND;TZID=America/New_York:20260327T170000
DTSTAMP:20260421T202257
CREATED:20251030T184952Z
LAST-MODIFIED:20251031T234723Z
UID:40513-1774425600-1774630800@thresholdsecurity.com
SUMMARY:ISC West 2026
DESCRIPTION:THRESHOLD Visitor Management Systems will be at the ISC West 2026 on March 25 – 27\, 2026 in Las Vegas\, NV. Stop by our Booth to see a demo of our eVisitor Software for visitor management and our expiring visitor badges. \nLearn more about the show.
URL:https://thresholdsecurity.com/event/isc-west-2026/
LOCATION:Ventian Expo\, Las Vegas\, NV\, United States
END:VEVENT
BEGIN:VEVENT
DTSTART;TZID=America/New_York:20260319T113000
DTEND;TZID=America/New_York:20260319T133000
DTSTAMP:20260421T202257
CREATED:20260210T211418Z
LAST-MODIFIED:20260212T140639Z
UID:41867-1773919800-1773927000@thresholdsecurity.com
SUMMARY:Closing the Gap: Align Behavioral Threat Assessment with Workplace Violence
DESCRIPTION:“Closing the Gap: Aligning Behavioral Threat Assessment with Workplace Violence Prevention Programs” \nWe are so excited to have Mark Reed\, MBA\, CHPA and Kelly B. share their expertise on this important topic. Join us for complimentary breakfast and presentation. Share with any healthcare professionals who might benefit! \nBy the end of this session\, participants will be able to:\n1. Explain how Behavioral Threat Assessment and Management strengthens existing Workplace Violence Prevention programs.\n2. Identify gaps in traditional WPV approaches and opportunities for proactive\, multidisciplinary intervention.\n3. Apply practical strategies to align behavioral threat assessment with current policies\, reporting\, and response processes. \nIf you are in the area and would like to attend\, you can register here https://www.eventbrite.com/e/1982437904137?aff=oddtdtcreator
URL:https://thresholdsecurity.com/event/closing-the-gap-align-behavioral-threat-assessment-with-workplace-violence/
LOCATION:USC Arcadia Hospital / Vance Auditorium\, 300 W Huntington Drive\, Arcadia\, CA\, 91007\, United States
END:VEVENT
BEGIN:VEVENT
DTSTART;TZID=America/New_York:20260113T080000
DTEND;TZID=America/New_York:20260115T170000
DTSTAMP:20260421T202257
CREATED:20251030T175901Z
LAST-MODIFIED:20251031T234651Z
UID:40511-1768291200-1768496400@thresholdsecurity.com
SUMMARY:PPAI Expo 2026
DESCRIPTION:THRESHOLD Visitor Management Systems will be at the PPAI Expo 2026 on January 13 – 15\, 2026 in Las Vegas\, NV. Stop by our Booth to see a demo of our eVisitor Software for visitor management and our expiring visitor badges. \nLearn more about the show.
URL:https://thresholdsecurity.com/event/ppai-expo-2026/
LOCATION:Mandalay Bay Convention Center\, Las Vegas\, NV\, United States
END:VEVENT
BEGIN:VEVENT
DTSTART;VALUE=DATE:20251120
DTEND;VALUE=DATE:20251121
DTSTAMP:20260421T202257
CREATED:20250918T183705Z
LAST-MODIFIED:20250918T183705Z
UID:40021-1763596800-1763683199@thresholdsecurity.com
SUMMARY:2025 Delaware River Chapter Education Day
DESCRIPTION:THRESHOLD Visitor Management Systems will be at the 2025 Delaware River Chapter Education Day on November\, 20\, 2025 in Philadelphia\, PA. Stop by our Booth to see a demo of our eVisitor Software for visitor management and our expiring visitor badges. \nLearn more about the event.
URL:https://thresholdsecurity.com/event/2025-delaware-river-chapter-education-day/
LOCATION:CYTO|PHL At The Cira Centre\, 2929 Arch Street\, Philadelphia\, PA\, 19104\, United States
END:VEVENT
BEGIN:VEVENT
DTSTART;TZID=America/New_York:20251112T073000
DTEND;TZID=America/New_York:20251112T170000
DTSTAMP:20260421T202257
CREATED:20250918T154432Z
LAST-MODIFIED:20250918T154548Z
UID:40014-1762932600-1762966800@thresholdsecurity.com
SUMMARY:IAHSS Florida Summit - Joint Chapter
DESCRIPTION:THRESHOLD Visitor Management Systems will be at the IAHSS Florida Summit – Joint Chapter on November 12\, 2025 in Tampa\, FL. Stop by our Booth to see a demo of our eVisitor Software for visitor management and our expiring visitor badges. \nLearn more about the event.
URL:https://thresholdsecurity.com/event/iahss-florida-summit-joint-chapter/
LOCATION:Johns Hopkins All Children’s Hospital \, Research and Education Building\, 600 5th Street South\, St. Petersburg\, FL\, 33701\, United States
END:VEVENT
BEGIN:VEVENT
DTSTART;VALUE=DATE:20251106
DTEND;VALUE=DATE:20251107
DTSTAMP:20260421T202257
CREATED:20250918T153919Z
LAST-MODIFIED:20250930T202435Z
UID:40012-1762387200-1762473599@thresholdsecurity.com
SUMMARY:2025 IAHSS Greater Houston Chapter Healthcare Security Summit
DESCRIPTION:THRESHOLD Visitor Management Systems will be at the 2025 IAHSS Greater Houston Chapter Healthcare Security Summit on November 6\, 2025 in Houston\, TX. Stop by our Booth to see a demo of our eVisitor Software for visitor management and our expiring visitor badges. \n 
URL:https://thresholdsecurity.com/event/2025-iahss-greater-houston-chapter-healthcare-security-summit/
LOCATION:CA
END:VEVENT
BEGIN:VEVENT
DTSTART;TZID=America/New_York:20251023T080000
DTEND;TZID=America/New_York:20251023T143000
DTSTAMP:20260421T202257
CREATED:20250918T153231Z
LAST-MODIFIED:20250918T153231Z
UID:40009-1761206400-1761229800@thresholdsecurity.com
SUMMARY:IAHSS Boston Chapter 2025 Security Education Symposium
DESCRIPTION:THRESHOLD Visitor Management Systems will be at the IAHSS Boston Chapter 2025 Security Education Symposium on October 23\, 2025 in Burlington\, MA. Stop by our Booth to see a demo of our eVisitor Software for visitor management and our expiring visitor badges. \nLearn more about the event.
URL:https://thresholdsecurity.com/event/iahss-boston-chapter-2025-security-education-symposium/
LOCATION:Lahey Hospital & Medical Center\, 41 Burlington Mall Road\, Burlington\, MA\, 01805\, United States
END:VEVENT
BEGIN:VEVENT
DTSTART;TZID=America/New_York:20251017T080000
DTEND;TZID=America/New_York:20251017T150000
DTSTAMP:20260421T202257
CREATED:20250918T165654Z
LAST-MODIFIED:20250930T202556Z
UID:40017-1760688000-1760713200@thresholdsecurity.com
SUMMARY:Connecticut Educational Day & Security Officer Recognition Seminar
DESCRIPTION:THRESHOLD Visitor Management Systems will be at the Connecticut Educational Day & Security Officer Recognition Seminar on October 17\, 2025 in West Hartford\, CT. Stop by our Booth to see a demo of our eVisitor Software for visitor management and our expiring visitor badges. \nLearn more about the event.
URL:https://thresholdsecurity.com/event/connecticut-educational-day-security-officer-recognition-seminar/
LOCATION:Pond House Café\, 1666 Asylum Ave.\, West Hartford\, CT\, 06117\, United States
END:VEVENT
BEGIN:VEVENT
DTSTART;VALUE=DATE:20250930
DTEND;VALUE=DATE:20251003
DTSTAMP:20260421T202257
CREATED:20250822T180738Z
LAST-MODIFIED:20250930T202204Z
UID:39879-1759190400-1759449599@thresholdsecurity.com
SUMMARY:2025 KSHE Annual Conference
DESCRIPTION:THRESHOLD Visitor Management Systems is exhibiting at the 2025 KSHE Annual Conference on September 30 – October 2\, 2025 in Lexington\, KY. Stop by our booth to see a demo of our eVisitor Software for visitor management and our expiring visitor badges. Learn more about the event.
URL:https://thresholdsecurity.com/event/2025-kshe-annual-conference/
LOCATION:Central Bank Center\, 430 W Vine Street\, Lexington\, KY\, 40507\, United States
END:VEVENT
BEGIN:VEVENT
DTSTART;TZID=America/New_York:20250929T170000
DTEND;TZID=America/New_York:20250929T190000
DTSTAMP:20260421T202257
CREATED:20250918T152451Z
LAST-MODIFIED:20250930T202507Z
UID:40006-1759165200-1759172400@thresholdsecurity.com
SUMMARY:ASIS GSX Private Reception for IAHSS Members (and 1 Guest)
DESCRIPTION:THRESHOLD Visitor Management Systems will be at ASIS GSX Private Reception for IAHSS Members (and 1 Guest) on September 29\, 2025 in New Orleans\, LA. \nLearn more about the event.
URL:https://thresholdsecurity.com/event/asis-gsx-private-reception-for-iahss-members-and-1-guest/
LOCATION:Vintage Rock Club\, 1007 Poydras Street\, New Orleans\, LA\, 70112\, United States
END:VEVENT
BEGIN:VEVENT
DTSTART;TZID=America/New_York:20250929T080000
DTEND;TZID=America/New_York:20251001T170000
DTSTAMP:20260421T202257
CREATED:20241220T134641Z
LAST-MODIFIED:20250822T180934Z
UID:34579-1759132800-1759338000@thresholdsecurity.com
SUMMARY:GSX 2025
DESCRIPTION:THRESHOLD Visitor Management Systems is exhibiting at GSX 2025 on September 29 – October 1\, 2025 in New Orleans\, LA. Stop by our Booth #636 to see a demo of our eVisitor Software for visitor management and our expiring visitor badges. Learn more about the event.
URL:https://thresholdsecurity.com/event/gsx-2025/
LOCATION:Ernest N. Morial Convention Center\, New Orleans\, LA\, United States
END:VEVENT
BEGIN:VEVENT
DTSTART;VALUE=DATE:20250924
DTEND;VALUE=DATE:20250925
DTSTAMP:20260421T202257
CREATED:20250918T151928Z
LAST-MODIFIED:20250918T151928Z
UID:40003-1758672000-1758758399@thresholdsecurity.com
SUMMARY:IAHSS Ohio Chapter 2nd Annual “Mini” AC&E
DESCRIPTION:THRESHOLD Visitor Management Systems is exhibiting at the IAHSS Ohio Chapter 2nd Annual “Mini” AC&E on September 24\, 2025 in Columbus\, OH. Stop by our Booth to see a demo of our eVisitor Software for visitor management and our expiring visitor badges. \nLearn more about the event.
URL:https://thresholdsecurity.com/event/iahss-ohio-chapter-2nd-annual-mini-ace/
LOCATION:Nationwide Children’s Conference Center\, 520 Butterfly Gardens Drive\, Columbus\, OH\, 43215\, United States
END:VEVENT
BEGIN:VEVENT
DTSTART;TZID=America/New_York:20250728T080000
DTEND;TZID=America/New_York:20250730T170000
DTSTAMP:20260421T202257
CREATED:20250225T164254Z
LAST-MODIFIED:20250930T202331Z
UID:36264-1753689600-1753894800@thresholdsecurity.com
SUMMARY:21st Annual National School Safety Conference
DESCRIPTION:THRESHOLD Visitor Management Systems is exhibiting at 21st Annual National School Safety Conference on July 28 – July 30\, 2025 in Las Vegas\, NV. Stop by our Booth #201 to see a demo of our eVisitor Software for visitor management and our expiring visitor badges. Learn more about the event.
URL:https://thresholdsecurity.com/event/21st-annual-national-school-safety-conference/
LOCATION:Virgin Hotels\, Las Vegas\, NV\, United States
END:VEVENT
BEGIN:VEVENT
DTSTART;TZID=America/New_York:20250602T080000
DTEND;TZID=America/New_York:20250604T170000
DTSTAMP:20260421T202257
CREATED:20241218T165455Z
LAST-MODIFIED:20241224T183317Z
UID:34342-1748851200-1749056400@thresholdsecurity.com
SUMMARY:IAHSS 57th Annual Conference & Exhibition (AC&E)
DESCRIPTION:THRESHOLD Visitor Management Systems is exhibiting at the IAHSS 57th Annual Conference & Exhibition (AC&E) on June 2 – June 4\, 2025 in Phoenix/Scottsdale\, AZ. Stop by our booth to see a demo of our eVisitor Software for visitor management and our expiring visitor badges. Learn more about the event.
URL:https://thresholdsecurity.com/event/iahss-57th-annual-conference-exhibition-ace/
LOCATION:Westin Kierland Resort & Spa\, 6902 E Greenway Pkwy\, Scottsdale\, AZ\, 85254\, United States
END:VEVENT
BEGIN:VEVENT
DTSTART;TZID=America/New_York:20250402T080000
DTEND;TZID=America/New_York:20250404T170000
DTSTAMP:20260421T202257
CREATED:20241218T164242Z
LAST-MODIFIED:20241224T183358Z
UID:34339-1743580800-1743786000@thresholdsecurity.com
SUMMARY:ISC West 2025
DESCRIPTION:THRESHOLD Visitor Management Systems is exhibiting at ISC West 2025 on April 2 – April 4\, 2025 in Las Vegas\, NV. Stop by our Booth #21121 to see a demo of our eVisitor Software for visitor management and our expiring visitor badges. Learn more about the event.
URL:https://thresholdsecurity.com/event/isc-west-2025/
LOCATION:The Venetian Expo\, Las Vegas\, NV
END:VEVENT
BEGIN:VEVENT
DTSTART;TZID=America/New_York:20250114T080000
DTEND;TZID=America/New_York:20250116T170000
DTSTAMP:20260421T202257
CREATED:20241218T163612Z
LAST-MODIFIED:20241224T183433Z
UID:34335-1736841600-1737046800@thresholdsecurity.com
SUMMARY:PPAI Expo 2025
DESCRIPTION:THRESHOLD Visitor Management Systems is exhibiting at the PPAI Expo 2025 on January 14 – January 16\, 2025 in Las Vegas\, NV. Stop by our Booth #6302 to see a demo of our eVisitor Software for visitor management and our expiring visitor badges. Learn more about the event.
URL:https://thresholdsecurity.com/event/ppai-expo-2025/
LOCATION:Mandalay Bay Convention Center\, Las Vegas\, NV\, United States
END:VEVENT
BEGIN:VEVENT
DTSTART;VALUE=DATE:20241001
DTEND;VALUE=DATE:20241004
DTSTAMP:20260421T202257
CREATED:20240312T200604Z
LAST-MODIFIED:20240828T220639Z
UID:19838-1727740800-1727999999@thresholdsecurity.com
SUMMARY:KSHE - 2024 Healthcare Coalition Conference
DESCRIPTION:THRESHOLD Visitor Management Systems is exhibiting at the 2024 KSHE Annual Conference on October 1 – October 3\, 2024 in Owensboro\, KY. Stop by our booth to see a demo of our eVisitor Software for visitor management and our expiring visitor badges. Learn more about the event.
URL:https://thresholdsecurity.com/event/kshe-2024-healthcare-coalition-conference/
LOCATION:Owensboro Convention Center\, 501 West 2nd St.\, Owensboro\, KY\, 42301\, United States
END:VEVENT
BEGIN:VEVENT
DTSTART;VALUE=DATE:20240923
DTEND;VALUE=DATE:20240926
DTSTAMP:20260421T202257
CREATED:20240312T200310Z
LAST-MODIFIED:20240312T200310Z
UID:19835-1727049600-1727308799@thresholdsecurity.com
SUMMARY:GSX 2024
DESCRIPTION:We will be exhibiting at GSX 2024 in Orlando\, FL from September 23 – September 25\, 2024. Stop by Booth #2135 for a demo of eVisitor Software for visitor management and samples of our expiring visitor badges.
URL:https://thresholdsecurity.com/event/gsx-2024/
LOCATION:Orange County Convention Center\, Orlando\, FL
END:VEVENT
BEGIN:VEVENT
DTSTART;VALUE=DATE:20240827
DTEND;VALUE=DATE:20240831
DTSTAMP:20260421T202257
CREATED:20240312T195536Z
LAST-MODIFIED:20240903T232630Z
UID:19832-1724716800-1725062399@thresholdsecurity.com
SUMMARY:19th Annual Southeastern Safety & Security Healthcare Council's Conference
DESCRIPTION:We will be exhibiting at 19th Annual Southeastern Safety & Security Healthcare Council’s Conference in Myrtle Beach\, SC from August 27 – August 30\, 2024. Stop by for a demo of eVisitor Software for visitor management and samples of our expiring visitor badges.
URL:https://thresholdsecurity.com/event/19th-annual-southeastern-safety-security-healthcare-councils-conference/
LOCATION:Hilton Myrtle Beach Resort\, Myrtle Beach\, SC
END:VEVENT
BEGIN:VEVENT
DTSTART;TZID=America/New_York:20240729T120000
DTEND;TZID=America/New_York:20240730T170000
DTSTAMP:20260421T202257
CREATED:20240716T142857Z
LAST-MODIFIED:20240828T220105Z
UID:30636-1722254400-1722358800@thresholdsecurity.com
SUMMARY:2024 National School Safety Conference
DESCRIPTION:THRESHOLD Visitor Management Systems is exhibiting at the 2024 National School Safety Conference from July 29-30 in Orlando\, FL. Stop by Booth 212 to see a demo of our eVisitor Software and our expiring visitor badges. \nWe are excited to be connecting with school safety professionals and look forward to meeting you there. Learn more about the event.
URL:https://thresholdsecurity.com/event/30636/
LOCATION:DoubleTree by Hilton Hotel Orlando at SeaWorld\, 10100 International Drive\, Orlando\, Florida\, 32821
END:VEVENT
BEGIN:VEVENT
DTSTART;VALUE=DATE:20240429
DTEND;VALUE=DATE:20240502
DTSTAMP:20260421T202257
CREATED:20240312T195302Z
LAST-MODIFIED:20240828T220143Z
UID:19828-1714348800-1714607999@thresholdsecurity.com
SUMMARY:IAHSS Annual Conference & Exhibition (AC&E)
DESCRIPTION:We will be exhibiting at IAHSS Annual Conference & Exhibition (AC&E) in Orlando\, FL from April 29 – May 1\, 2024. Stop by for a demo of eVisitor Software for visitor management and samples of our expiring visitor badges.
URL:https://thresholdsecurity.com/event/iahss-annual-conference-exhibition-ace/
LOCATION:Loews Royal Pacific Resort\, Orlando\, FL
ATTACH;FMTTYPE=image/png:https://thresholdsecurity.com/wp-content/uploads/2024/03/2024_IAHSS.png
END:VEVENT
BEGIN:VEVENT
DTSTART;VALUE=DATE:20240409
DTEND;VALUE=DATE:20240413
DTSTAMP:20260421T202257
CREATED:20240312T194839Z
LAST-MODIFIED:20240828T220606Z
UID:19824-1712620800-1712966399@thresholdsecurity.com
SUMMARY:ISC West 2024
DESCRIPTION:We will be exhibiting at ISC West 2024 in Las Vegas from April 9 – April 12\, 2024. Stop by Booth #21120 for a demo of eVisitor Software for visitor management and samples of our expiring visitor badges.
URL:https://thresholdsecurity.com/event/isc-west-2024/
LOCATION:The Venetian Expo\, Las Vegas\, NV
ATTACH;FMTTYPE=image/gif:https://thresholdsecurity.com/wp-content/uploads/2024/03/2024_ISC_West.gif
END:VEVENT
END:VCALENDAR